BEGIN:VCALENDAR
VERSION:2.0
PRODID:-//REFA - ECPv6.15.20//NONSGML v1.0//EN
CALSCALE:GREGORIAN
METHOD:PUBLISH
X-WR-CALNAME:REFA
X-ORIGINAL-URL:https://renewableenergyfarmers.org
X-WR-CALDESC:Events for REFA
REFRESH-INTERVAL;VALUE=DURATION:PT1H
X-Robots-Tag:noindex
X-PUBLISHED-TTL:PT1H
BEGIN:VTIMEZONE
TZID:America/Chicago
BEGIN:DAYLIGHT
TZOFFSETFROM:-0600
TZOFFSETTO:-0500
TZNAME:CDT
DTSTART:20250309T080000
END:DAYLIGHT
BEGIN:STANDARD
TZOFFSETFROM:-0500
TZOFFSETTO:-0600
TZNAME:CST
DTSTART:20251102T070000
END:STANDARD
BEGIN:DAYLIGHT
TZOFFSETFROM:-0600
TZOFFSETTO:-0500
TZNAME:CDT
DTSTART:20260308T080000
END:DAYLIGHT
BEGIN:STANDARD
TZOFFSETFROM:-0500
TZOFFSETTO:-0600
TZNAME:CST
DTSTART:20261101T070000
END:STANDARD
BEGIN:DAYLIGHT
TZOFFSETFROM:-0600
TZOFFSETTO:-0500
TZNAME:CDT
DTSTART:20270314T080000
END:DAYLIGHT
BEGIN:STANDARD
TZOFFSETFROM:-0500
TZOFFSETTO:-0600
TZNAME:CST
DTSTART:20271107T070000
END:STANDARD
END:VTIMEZONE
BEGIN:VEVENT
DTSTART;TZID=America/Chicago:20260203T000000
DTEND;TZID=America/Chicago:20260205T235959
DTSTAMP:20260420T054650
CREATED:20251010T185711Z
LAST-MODIFIED:20251010T185711Z
UID:1808-1770076800-1770335999@renewableenergyfarmers.org
SUMMARY:RE+ Northeast
DESCRIPTION:RE+ Northeast is an annual event that brings together clean energy professionals from across the northeast region of the United States. The event features keynote speakers\, panel discussions\, exhibition\, and networking opportunities for attendees to learn about the latest trends and developments in solar\, energy storage\, hydrogen\, grid edge technologies\, EV infrastructure\, and more.
URL:https://renewableenergyfarmers.org/events/re-northeast/
LOCATION:Boston\, MA
CATEGORIES:RE Industry Event
ATTACH;FMTTYPE=image/png:https://renewableenergyfarmers.org/wp-content/uploads/RE-logo-1024x1024-1-e1757079656431.png
END:VEVENT
END:VCALENDAR